BEGIN:VCALENDAR
VERSION:2.0
METHOD:PUBLISH
BEGIN:VEVENT
UID:WILD_APRICOT_EVENT_2565332_SESSION_1
DTSTART:20170702T120000Z
DTEND:20170703T120000Z
SUMMARY:SYHPANZ AGM
LOCATION:Tamaki Campus\, The University of Auckland\, 261 Morrins Road\, St Johns\, Auckland
DESCRIPTION:http://syhpanz.co.nz/event-2565332\n\nThe Annual General Meeting for SYHPANZ will be held during the SYHPANZ & Health Connections Hui on Monday 3 July 2017.  The meeting will take place during lunch:\n\n  12.15 - 1.15pm.\n\n  Please find the necessary documentation below:\n      * Notice of Annual General Meeting 2017\n\n        * SYHPANZ General Member role description 2017\n\n        * SYHPANZ Secretary role description 2017\n\n        * Nomination forms for SYHPANZ Executive\n\n\n
DTSTAMP:20180121T052054Z
END:VEVENT
END:VCALENDAR
