BEGIN:VCALENDAR
VERSION:2.0
METHOD:PUBLISH
BEGIN:VEVENT
UID:WILD_APRICOT_EVENT_2559671_SESSION_1
DTSTART:20170702T210000Z
DTEND:20170703T033000Z
SUMMARY:SYHPANZ and Health Connections Hui
LOCATION:Tamaki Campus\, The University of Auckland\, 261 Morrins Road\, St Johns\, Auckland 1072
DESCRIPTION:http://syhpanz.co.nz/event-2559671\n\n\n\n  Health Connections & SYHPANZ present:\n\n     Young people & Oranga Tamariki:\n   #OurRole\n   #Skills\n   #BetterOutcomes\n   Tamaki Campus\, The University of Auckland\n\n  Monday 3rd July - 9-3.30pm\n\n      * Schedule\n\n\n        * \n\n\n        * Presenters\n\n  Please note the SYHPANZ AGM will also be held during this Hui. Find out more here.\n\n  SYHPANZ 2017 Hui Pricing\n  Please note this conference has set fees for all attendees.\n  $75 non SYHPANZ members\n\n  $50 for SYHPANZ members\n  \n\n  SYHPANZ Membership\n                 Membership Type                 Annual Membership Cost\n                                   Salary < $60\,000pa\n                        $80\n                                   Salary > $60\,000pa\n                         $120\n                                    20% discount per person for groups of     5+ people (max 10 people per group) \n                  \n\n  Please pass on our flyer to your networks.\nFor more information please contact enquiries@syhpanz.co.nz or contact@healthconnections.co.nz.  \n\n
DTSTAMP:20180121T052007Z
END:VEVENT
END:VCALENDAR
