BEGIN:VCALENDAR
VERSION:2.0
METHOD:PUBLISH
BEGIN:VEVENT
UID:WILD_APRICOT_EVENT_2346800_SESSION_1
DTSTART:20170426T120000Z
DTEND:20170428T120000Z
SUMMARY:Wellbeing Matters
LOCATION:At Andrews College Christchurch
DESCRIPTION:http://syhpanz.co.nz/event-2346800\n\n\n\n      * Two interactive and inspirational days building knowledge and skills for youth wellbeing.\n\n        * Hear from our youth keynote speakers.\n\n        * Register on or before 28 February 2017 and to benefit from early bird pricing.\n\n\n  Registrations of interest to deliver presentations or workshops are now open.\n  Further details can be found here on The Collaborative Trust website.\n  \n\n
DTSTAMP:20180121T052150Z
END:VEVENT
END:VCALENDAR
