BEGIN:VCALENDAR
VERSION:2.0
METHOD:PUBLISH
BEGIN:VEVENT
UID:WILD_APRICOT_EVENT_2161172_SESSION_1
DTSTART:20160727T203000Z
DTEND:20160729T040000Z
SUMMARY:SYHPANZ CONFERENCE - Absolutely Positively Youth Health\; Working Together to Support Bright Futures.
LOCATION:Wellington Regional Hospital Newtown\, Wellington NZ
DESCRIPTION:http://syhpanz.co.nz/event-2161172\n\nAbsolutely Positively Youth Health\n  Working Together To Support Bright Futures\n\n  2016 AGM & Conference \n  Society of Youth Health Professionals Aotearoa\, New Zealand\n         * A Smart Youth System: New & Emerging Approaches\n\n          * One Team Supporting At-Risk Youth\n\n   Wellington Regional Hospital \n\n  Thurs & Fri\, July 28 - 29 2016\n  View our:\n      * Programme\n\n        * \n\n\n        * Speakers Bios\n\n  \n\n  SYHPANZ 2016 Conference Pricing\n                 \n        \n         1 day only\n       Registration from Jun 1st\n       \n        \n        2 days\n       Registration from June 1st                    Members        \n         $175                 $300                    Non-Members                  $300                  $450           Please note this is not a SYHPANZ Forum which are free for Members. This conference has set fees for all attendees.\n  SYHPANZ Membership\n                 Membership Type                 Annual Membership Cost\n                                  Salary < $60\,000pa\n                        $80\n                                  Salary > $60\,000pa\n                         $120\n                                  20% discount per person for groups of 5+ people (max 10 people per group) \n                  Registrations are  open and can be done directly via our website or contact us if you require assistance.\n\n  Please pass on our flyer to your networks.\n  Any queries please contact us at enquiries@syhpanz.co.nz \n\n  Look forward to seeing you all in Wellington for an 'Absolutely Positive' opportunity to 'work together'. \n  \n\n
DTSTAMP:20180121T052200Z
END:VEVENT
END:VCALENDAR
