BEGIN:VCALENDAR
VERSION:2.0
METHOD:PUBLISH
BEGIN:VEVENT
UID:WILD_APRICOT_EVENT_2087927_SESSION_1
DTSTART:20151207T013000Z
DTEND:20151207T030000Z
SUMMARY:SYHPANZ - Dunedin Forum. Youth Health and Development
LOCATION:Port Otago Lounge\, Edgar Centre\, Portsmough drive
DESCRIPTION:http://syhpanz.co.nz/event-2087927\n\nSYHPANZ Dunedin - Youth Health & Development Forum  \n  Come join us to share passion for Youth and connect with others working with young people!\n\n  Facilitator: Sue Philip\n\nDr Simon Denny will discuss current youth health issues\, with particular focus on gender health\, mental health\, bullying and health behaviour change. \n  \n\nCome along and bring cases to discuss - its also a chance to network and connect with others working in youth health and development!\n  \n\n  This forum is free to all SYHPANZ members or\n  $20 pp for non-members.\n  However if you would like to join SYHPANZ this forum's registration will go towards your membership and future SYHPANZ forums and resources for the year would be free.\n  \n\n  If you have any queries please contact us at enquiries@syhpanz.co.nz\n
DTSTAMP:20180121T052307Z
END:VEVENT
END:VCALENDAR
