BEGIN:VCALENDAR
VERSION:2.0
METHOD:PUBLISH
BEGIN:VEVENT
UID:WILD_APRICOT_EVENT_2057717_SESSION_1
DTSTART:20160224T010000Z
DTEND:20160224T033000Z
SUMMARY:SYHPANZ Manawatu Forum (Palmerston North)
LOCATION:Awapuni Function Centre (in the Silks Lounge on the 1st floor)\,  Awapuni Race Course\,  Racecourse Rd\, Palmerston North
DESCRIPTION:http://syhpanz.co.nz/event-2057717\n\nManawatu SYHPANZ\n  Youth Health and Development Forum           \n  Facilitator: Dr Vicki Shaw\n\n  Click here for flyer - please pass onto networks\n  Speakers:\n  “Struggling and In Trouble – when should we think about Foetal Alcohol Spectrum Disorder (FASD) for our teens.”\n  Dr Kate Robertshaw\, Consultant Neurodevelopmental Paediatrician\, and Clinical Senior Lecturer for University of Otago\, Wellington\n  “FASD – A Family Perspective”\n  Claire Gyde from Fetal Alcohol Spectrum Disorder - Care Action Network (FASD-CAN) and mother of two teenage sons\, one of whom has FASD.\n  “SPARX and online tools for youth mental health: an update for practice"\n  Terry (Theresa) Fleming is a senior lecturer in youth mental health for the Department of Paediatrics: Child and Youth Health and the Department of Psychological Medicine the University of Auckland.  \n  \n\n
DTSTAMP:20180121T052243Z
END:VEVENT
END:VCALENDAR
