BEGIN:VCALENDAR
VERSION:2.0
METHOD:PUBLISH
BEGIN:VEVENT
UID:WILD_APRICOT_EVENT_2040725_SESSION_1
DTSTART:20151020T010000Z
DTEND:20151020T030000Z
SUMMARY:SYHPANZ Auckland Forum and AGM!
LOCATION:Tamaki Campus\, School of Population Health\, Function Room 220
DESCRIPTION:http://syhpanz.co.nz/event-2040725\n\nThis Auckland SYHPANZ forum will discuss supporting students in schools through peer approaches\, such as tertiary service learning courses which mentor secondary school students\, Peer Sexuality Support Programmes and the Health Science Academies. \n  Facilitator: Dr Simon Denny\n  The Annual General Meeting for SYHPANZ will be held prior at 1pm to 2pm                                           \n  \n\n
DTSTAMP:20180121T052411Z
END:VEVENT
END:VCALENDAR
