BEGIN:VCALENDAR
VERSION:2.0
METHOD:PUBLISH
BEGIN:VEVENT
UID:WILD_APRICOT_EVENT_2033689_SESSION_1
DTSTART:20151201T203000Z
DTEND:20151201T233000Z
SUMMARY:SYHPANZ Hawkes Bay - Youth Health & Development Forum
LOCATION:Auditorium at the Education Centre Hastings Hospital
DESCRIPTION:http://syhpanz.co.nz/event-2033689\n\nSYHPANZ Hawkes Bay - Youth Health & Development Forum  \n  Come join us to share passion for Youth and update knowledge and skills from our exciting presenters.\n  Facilitator: Anita Balhorn\n  Topics:\n      * Alcohol & Drug Interventions within a Youth Development Approach - Ben Birks\n\n        * Dr Simon Denny: Youth 2012 - How are young people in the Hawkes Bay\, with particular focus on transgender.     \n\n     Click here to view our flyer      \n      This forum is free to all SYHPANZ members or      $30 pp for non-members.      However if you would like to join SYHPANZ this forum's registration will go towards your membership and future SYHPANZ forums and resources for the year would be free.      \n      If you have any queries please contact us at enquiries@syhpanz.co.nz      \n 
DTSTAMP:20180121T052328Z
END:VEVENT
END:VCALENDAR
