BEGIN:VCALENDAR
VERSION:2.0
METHOD:PUBLISH
BEGIN:VEVENT
UID:WILD_APRICOT_EVENT_1998627_SESSION_1
DTSTART:20150916T223000Z
DTEND:20150917T003000Z
SUMMARY:SYHPANZ Forum - Nelson
LOCATION:Seminar Room 2\, Braemar site\, NMDHB
DESCRIPTION:http://syhpanz.co.nz/event-1998627\n\nHEEADSSS\, APPS...  Tools for Working with young people\n\n  The aim of this forum is to:\n        * Understand the role of SYHPANZ (Society of Youth Health Professionals\, Aotearoa\, NZ)\n\n        * Overview of HEEADSSS\n\n        * Using HEEADSSS in different environments\n\n        * Young people and social media\n\n        * Apps and tools for working with young people\n\n     To read more open links:\n        * HEEADSSS and APPS September 2015.doc\n\n\n        * Working together September 2015.doc \n\n\n  
DTSTAMP:20180121T052421Z
END:VEVENT
END:VCALENDAR
