BEGIN:VCALENDAR
VERSION:2.0
METHOD:PUBLISH
BEGIN:VEVENT
UID:WILD_APRICOT_EVENT_1943480_SESSION_1
DTSTART:20150619T000000Z
DTEND:20150619T020000Z
SUMMARY:Christchurch SYHPANZ Forum
LOCATION:Venue 9 Nova Place off Barbadoes Street
DESCRIPTION:http://syhpanz.co.nz/event-1943480\n\nAssociate Professor Simon Denny will present on school health services and mental health outcomes: whats the evidence and what to do.  \n\n  Sean Wheeler from the Ministry of Education will also present on how health and education can work together.\n\n
DTSTAMP:20180121T052454Z
END:VEVENT
END:VCALENDAR
