BEGIN:VCALENDAR
VERSION:2.0
METHOD:PUBLISH
BEGIN:VEVENT
UID:WILD_APRICOT_EVENT_1929164_SESSION_1
DTSTART:20151203T230000Z
DTEND:20151204T010000Z
SUMMARY:SYHPANZ Auckland Forum
LOCATION:Function Room 220. School of Population Health\, Tamaki Campus. Auckland University
DESCRIPTION:http://syhpanz.co.nz/event-1929164\n\nBreaking news and change of date!!\n\n  Dr Vic Strasburger from the USA is visiting New Zealand and we have the opportunity to hear from one of youth health's international leaders. He is the author of Children\, Adolescents and the Media and an recognised expert on the media effects on young people.\n\n      * Internationally recognized expert on children\, adolescents\, and the media\n\n        * Adolescent Medicine expert\n\n        * Board-certified in General Pediatrics and in Adolescent Medicine\n\n        * Author\, novelist\, speaker\, trainer\n\n\n        * Nearly 500 talks delivered to doctors\, parents\, teachers\, general audiences​\n\n  Dr Strasburger is in Auckland on the 4th December only and don't miss this opportunity to hear from one of adolescent medicine's international experts.\n\n
DTSTAMP:20180121T052317Z
END:VEVENT
END:VCALENDAR
