BEGIN:VCALENDAR
VERSION:2.0
METHOD:PUBLISH
BEGIN:VEVENT
UID:WILD_APRICOT_EVENT_1929157_SESSION_1
DTSTART:20151027T000000Z
DTEND:20151027T030000Z
SUMMARY:SYHPANZ Wellington Forum
LOCATION:Easthope Lecture Theatre\, Level 12 Ward Support Block\, Wellington Regional Hospital
DESCRIPTION:http://syhpanz.co.nz/event-1929157\n\nSYHPANZ presents the Wellington Regional SYHPANZ  Youth Health Forum \n \n\n  Facilitator: Dr Jess Allen\n  Speakers: \n 1/   Dr Simon Denny will be speaking on the latest findings from  the Youth 2012 survey of New Zealand Secondary School Students and the relevance of the data  to those working with young people .  \n 2/   Dr Anganette Hall will be giving a talk on practical tips for motivational interviewing with young people \n Who should attend:  Health professionals working with young people in Wairarapa\, Hutt Valley and Wellington regions e.g. school nurses\, school guidance counsellors\, GPs\, social workers and  youth workers\n How to register: go to https://syhpanz.wildapricot.org/ look up event or just email   enquiries@syhpanz.co.nz\n  \n Cost: $40 for non - members to SYHPANZ\n          free for SYHPANZ members \n  Membership is only:\n      * $80 per year for those on salary less than $60 000 per year and \n\n        * $120 for those with salary over $60 000 per year\n\n        * group membership of 5+ receive a discount of 20% pp\n\n\n\n  Afternoon tea will be provided  and an opportunity to network with local youth health professionals. \nDetailed map to venue
DTSTAMP:20180121T052349Z
END:VEVENT
END:VCALENDAR
